BEGIN:VCALENDAR
VERSION:2.0
PRODID:Events Booking
BEGIN:VEVENT
UID:69e9d8d165d88
SUMMARY:CSI-MS4 West Virginia (ET)
DESCRIPTION:
DTSTART:20260813T153000Z
DTEND:20260814T233000Z
DTSTAMP:20250909T044200Z
ORGANIZER;CN=National Stormwater Center:MAILTO:npdes@formationsdev.com
END:VEVENT
END:VCALENDAR