BEGIN:VCALENDAR
VERSION:2.0
PRODID:Events Booking
BEGIN:VEVENT
UID:69e9d7d9d349e
SUMMARY:CSI-MS4 California (PT)
DESCRIPTION:
DTSTART:20260810T153000Z
DTEND:20260811T233000Z
DTSTAMP:20250909T040932Z
ORGANIZER;CN=National Stormwater Center:MAILTO:npdes@formationsdev.com
END:VEVENT
END:VCALENDAR