BEGIN:VCALENDAR
VERSION:2.0
PRODID:Events Booking
BEGIN:VEVENT
UID:69ea7d9561971
SUMMARY:CSI-MS4 Idaho (PT)
DESCRIPTION:
DTSTART:20261130T163000Z
DTEND:20261202T003000Z
DTSTAMP:20260109T011744Z
ORGANIZER;CN=National Stormwater Center:MAILTO:npdes@formationsdev.com
END:VEVENT
END:VCALENDAR